BEGIN:VCALENDAR
VERSION:2.0
PRODID:-//Ann Arbor Karma Thegsum Chöling - ECPv6.15.12.2//NONSGML v1.0//EN
CALSCALE:GREGORIAN
METHOD:PUBLISH
X-WR-CALNAME:Ann Arbor Karma Thegsum Chöling
X-ORIGINAL-URL:https://annarborktc.org
X-WR-CALDESC:Events for Ann Arbor Karma Thegsum Chöling
REFRESH-INTERVAL;VALUE=DURATION:PT1H
X-Robots-Tag:noindex
X-PUBLISHED-TTL:PT1H
BEGIN:VTIMEZONE
TZID:America/Detroit
BEGIN:DAYLIGHT
TZOFFSETFROM:-0500
TZOFFSETTO:-0400
TZNAME:EDT
DTSTART:20250309T070000
END:DAYLIGHT
BEGIN:STANDARD
TZOFFSETFROM:-0400
TZOFFSETTO:-0500
TZNAME:EST
DTSTART:20251102T060000
END:STANDARD
BEGIN:DAYLIGHT
TZOFFSETFROM:-0500
TZOFFSETTO:-0400
TZNAME:EDT
DTSTART:20260308T070000
END:DAYLIGHT
BEGIN:STANDARD
TZOFFSETFROM:-0400
TZOFFSETTO:-0500
TZNAME:EST
DTSTART:20261101T060000
END:STANDARD
BEGIN:DAYLIGHT
TZOFFSETFROM:-0500
TZOFFSETTO:-0400
TZNAME:EDT
DTSTART:20270314T070000
END:DAYLIGHT
BEGIN:STANDARD
TZOFFSETFROM:-0400
TZOFFSETTO:-0500
TZNAME:EST
DTSTART:20271107T060000
END:STANDARD
END:VTIMEZONE
BEGIN:VEVENT
DTSTART;TZID=America/Detroit:20260802T103000
DTEND;TZID=America/Detroit:20260802T113000
DTSTAMP:20260423T192613
CREATED:20250126T224045Z
LAST-MODIFIED:20250126T224700Z
UID:10002956-1785666600-1785670200@annarborktc.org
SUMMARY:Green Tara Sadhana
DESCRIPTION:We chant the Green Tara Sadhana on the first Sunday of the month. \nSadhana practice includes meditation\, chanting and mantra recitation. Texts are provided and everyone is welcome. \nSee our regular schedule for more information. \nFree\, donations welcome. \nOr join us on Zoom:\nMeeting ID: 661 658 7090\nPasscode: AAKTC \nTo connect to Zoom by phone:\nUse the Meeting ID above and the numeric passcode below:\n+1 312 626 6799 US (Chicago)\n+1 646 876 9923 US (New York)\nPasscode: 866379 \nThis is the text of the Sadhana:\nGreen Tara Text
URL:https://annarborktc.org/event/green-tara-sadhana-4/2026-08-02/
LOCATION:Ann Arbor KTC\, 614 Miner St.\, Ann Arbor\, MI\, 48103\, United States
ATTACH;FMTTYPE=image/jpeg:https://annarborktc.org/wp-content/uploads/2018/07/GreenTara2.jpg
GEO:42.2867098;-83.7554469
X-APPLE-STRUCTURED-LOCATION;VALUE=URI;X-ADDRESS=Ann Arbor KTC 614 Miner St. Ann Arbor MI 48103 United States;X-APPLE-RADIUS=500;X-TITLE=614 Miner St.:geo:-83.7554469,42.2867098
END:VEVENT
BEGIN:VEVENT
DTSTART;TZID=America/Detroit:20260805T190000
DTEND;TZID=America/Detroit:20260805T200000
DTSTAMP:20260423T192613
CREATED:20240403T193102Z
LAST-MODIFIED:20251129T213642Z
UID:10002502-1785956400-1785960000@annarborktc.org
SUMMARY:Meditation and Discussion
DESCRIPTION:The Wednesday evening meeting provides group practice and discussion that will be meaningful to students at every level. The content of each meeting will be informed by the interests of the participants. \nShort prayers will be recited in English at the beginning and end of each session\, and participants are encouraged to share their questions\, reactions\, and experiences with the group. \nFree\, everyone is welcome. \nOr join us on Zoom:\nMeeting ID: 661 658 7090\nPasscode: AAKTC \nTo connect to Zoom by phone: \nUse the Meeting ID above and the numeric passcode below:\n+1 312 626 6799 US (Chicago)\n+1 646 876 9923 US (New York)\nPasscode: 866379 \nThese are the opening and closing prayers in PDF format:\nRefuge and 4 Immeasurables\nDedication and Aspiration
URL:https://annarborktc.org/event/meditation-and-discussion-2/2026-08-05/
LOCATION:Ann Arbor KTC\, 614 Miner St.\, Ann Arbor\, MI\, 48103\, United States
GEO:42.2867098;-83.7554469
X-APPLE-STRUCTURED-LOCATION;VALUE=URI;X-ADDRESS=Ann Arbor KTC 614 Miner St. Ann Arbor MI 48103 United States;X-APPLE-RADIUS=500;X-TITLE=614 Miner St.:geo:-83.7554469,42.2867098
END:VEVENT
BEGIN:VEVENT
DTSTART;TZID=America/Detroit:20260809T103000
DTEND;TZID=America/Detroit:20260809T113000
DTSTAMP:20260423T192613
CREATED:20240403T194141Z
LAST-MODIFIED:20240403T194214Z
UID:10002760-1786271400-1786275000@annarborktc.org
SUMMARY:Chenrezig / Amitabha Sadhanas
DESCRIPTION:On the second and fourth Sundays we chant the Chenrezig and Amitabha Sadhanas\nOn the fourth Sunday we chant in English. \nSadhana practice includes meditation\, chanting and mantra recitation. Texts are provided and everyone is welcome. \nSee our regular schedule for more information. \nFree\, donations welcome. \nOr join us on Zoom:\nMeeting ID: 661 658 7090\nPasscode: AAKTC \nTo connect to Zoom by phone:\nUse the Meeting ID above and the numeric passcode below:\n+1 312 626 6799 US (Chicago)\n+1 646 876 9923 US (New York)\nPasscode: 866379 \nThe text of the sadhana is available here:\nChenrezik Amitabha Text
URL:https://annarborktc.org/event/chenrezig-amitabha-sadhanas-3-2/2026-08-09/
LOCATION:Ann Arbor KTC\, 614 Miner St.\, Ann Arbor\, MI\, 48103\, United States
ATTACH;FMTTYPE=image/jpeg:https://annarborktc.org/wp-content/uploads/2019/02/Chenrezik1.jpg
GEO:42.2867098;-83.7554469
X-APPLE-STRUCTURED-LOCATION;VALUE=URI;X-ADDRESS=Ann Arbor KTC 614 Miner St. Ann Arbor MI 48103 United States;X-APPLE-RADIUS=500;X-TITLE=614 Miner St.:geo:-83.7554469,42.2867098
END:VEVENT
BEGIN:VEVENT
DTSTART;TZID=America/Detroit:20260812T190000
DTEND;TZID=America/Detroit:20260812T200000
DTSTAMP:20260423T192613
CREATED:20240403T193102Z
LAST-MODIFIED:20251129T213642Z
UID:10002503-1786561200-1786564800@annarborktc.org
SUMMARY:Meditation and Discussion
DESCRIPTION:The Wednesday evening meeting provides group practice and discussion that will be meaningful to students at every level. The content of each meeting will be informed by the interests of the participants. \nShort prayers will be recited in English at the beginning and end of each session\, and participants are encouraged to share their questions\, reactions\, and experiences with the group. \nFree\, everyone is welcome. \nOr join us on Zoom:\nMeeting ID: 661 658 7090\nPasscode: AAKTC \nTo connect to Zoom by phone: \nUse the Meeting ID above and the numeric passcode below:\n+1 312 626 6799 US (Chicago)\n+1 646 876 9923 US (New York)\nPasscode: 866379 \nThese are the opening and closing prayers in PDF format:\nRefuge and 4 Immeasurables\nDedication and Aspiration
URL:https://annarborktc.org/event/meditation-and-discussion-2/2026-08-12/
LOCATION:Ann Arbor KTC\, 614 Miner St.\, Ann Arbor\, MI\, 48103\, United States
GEO:42.2867098;-83.7554469
X-APPLE-STRUCTURED-LOCATION;VALUE=URI;X-ADDRESS=Ann Arbor KTC 614 Miner St. Ann Arbor MI 48103 United States;X-APPLE-RADIUS=500;X-TITLE=614 Miner St.:geo:-83.7554469,42.2867098
END:VEVENT
BEGIN:VEVENT
DTSTART;TZID=America/Detroit:20260816T103000
DTEND;TZID=America/Detroit:20260816T113000
DTSTAMP:20260423T192613
CREATED:20250127T002454Z
LAST-MODIFIED:20250127T002454Z
UID:10003016-1786876200-1786879800@annarborktc.org
SUMMARY:Medicine Buddha Sadhana
DESCRIPTION:We practice the Medicine Buddha Sadhana\, a Buddha of healing\, on the third Sunday of the month \nSadhana practice includes meditation\, chanting and mantra recitation. Texts are provided and everyone is welcome. \nSee our weekly schedule for more information. \nFree\, donations welcome. \nJoin us on Zoom:\nMeeting ID: 661 658 7090\nPasscode: AAKTC \nTo connect to Zoom by phone:\nUse the Meeting ID above and the numeric passcode below:\n+1 312 626 6799 US (Chicago)\n+1 646 876 9923 US (New York)\nPasscode: 866379 \nThe text of the practice is available here:\nMedicine Buddha Text
URL:https://annarborktc.org/event/medicine-buddha-sadhana-2/2026-08-16/
LOCATION:Ann Arbor KTC\, 614 Miner St.\, Ann Arbor\, MI\, 48103\, United States
ATTACH;FMTTYPE=image/jpeg:https://annarborktc.org/wp-content/uploads/2018/07/MedicineBuddha2.jpg
GEO:42.2867098;-83.7554469
X-APPLE-STRUCTURED-LOCATION;VALUE=URI;X-ADDRESS=Ann Arbor KTC 614 Miner St. Ann Arbor MI 48103 United States;X-APPLE-RADIUS=500;X-TITLE=614 Miner St.:geo:-83.7554469,42.2867098
END:VEVENT
BEGIN:VEVENT
DTSTART;TZID=America/Detroit:20260819T190000
DTEND;TZID=America/Detroit:20260819T200000
DTSTAMP:20260423T192613
CREATED:20240403T193102Z
LAST-MODIFIED:20251129T213642Z
UID:10002504-1787166000-1787169600@annarborktc.org
SUMMARY:Meditation and Discussion
DESCRIPTION:The Wednesday evening meeting provides group practice and discussion that will be meaningful to students at every level. The content of each meeting will be informed by the interests of the participants. \nShort prayers will be recited in English at the beginning and end of each session\, and participants are encouraged to share their questions\, reactions\, and experiences with the group. \nFree\, everyone is welcome. \nOr join us on Zoom:\nMeeting ID: 661 658 7090\nPasscode: AAKTC \nTo connect to Zoom by phone: \nUse the Meeting ID above and the numeric passcode below:\n+1 312 626 6799 US (Chicago)\n+1 646 876 9923 US (New York)\nPasscode: 866379 \nThese are the opening and closing prayers in PDF format:\nRefuge and 4 Immeasurables\nDedication and Aspiration
URL:https://annarborktc.org/event/meditation-and-discussion-2/2026-08-19/
LOCATION:Ann Arbor KTC\, 614 Miner St.\, Ann Arbor\, MI\, 48103\, United States
GEO:42.2867098;-83.7554469
X-APPLE-STRUCTURED-LOCATION;VALUE=URI;X-ADDRESS=Ann Arbor KTC 614 Miner St. Ann Arbor MI 48103 United States;X-APPLE-RADIUS=500;X-TITLE=614 Miner St.:geo:-83.7554469,42.2867098
END:VEVENT
BEGIN:VEVENT
DTSTART;TZID=America/Detroit:20260823T103000
DTEND;TZID=America/Detroit:20260823T113000
DTSTAMP:20260423T192613
CREATED:20240403T193928Z
LAST-MODIFIED:20240403T194017Z
UID:10002698-1787481000-1787484600@annarborktc.org
SUMMARY:Chenrezig / Amitabha Sadhanas
DESCRIPTION:On the second and fourth Sundays we chant the Chenrezig and Amitabha Sadhanas\nOn the fourth Sunday we chant in English. \nSadhana practice includes meditation\, chanting and mantra recitation. Texts are provided and everyone is welcome. \nSee our regular schedule for more information. \nFree\, donations welcome. \nOr join us on Zoom:\nMeeting ID: 661 658 7090\nPasscode: AAKTC \nTo connect to Zoom by phone:\nUse the Meeting ID above and the numeric passcode below:\n+1 312 626 6799 US (Chicago)\n+1 646 876 9923 US (New York)\nPasscode: 866379 \nThe text of the sadhana is available here:\nChenrezik Amitabha Text
URL:https://annarborktc.org/event/chenrezig-amitabha-sadhanas-2-2/2026-08-23/
LOCATION:Ann Arbor KTC\, 614 Miner St.\, Ann Arbor\, MI\, 48103\, United States
ATTACH;FMTTYPE=image/jpeg:https://annarborktc.org/wp-content/uploads/2019/02/Chenrezik1.jpg
GEO:42.2867098;-83.7554469
X-APPLE-STRUCTURED-LOCATION;VALUE=URI;X-ADDRESS=Ann Arbor KTC 614 Miner St. Ann Arbor MI 48103 United States;X-APPLE-RADIUS=500;X-TITLE=614 Miner St.:geo:-83.7554469,42.2867098
END:VEVENT
BEGIN:VEVENT
DTSTART;TZID=America/Detroit:20260826T190000
DTEND;TZID=America/Detroit:20260826T200000
DTSTAMP:20260423T192613
CREATED:20240403T193102Z
LAST-MODIFIED:20251129T213642Z
UID:10002505-1787770800-1787774400@annarborktc.org
SUMMARY:Meditation and Discussion
DESCRIPTION:The Wednesday evening meeting provides group practice and discussion that will be meaningful to students at every level. The content of each meeting will be informed by the interests of the participants. \nShort prayers will be recited in English at the beginning and end of each session\, and participants are encouraged to share their questions\, reactions\, and experiences with the group. \nFree\, everyone is welcome. \nOr join us on Zoom:\nMeeting ID: 661 658 7090\nPasscode: AAKTC \nTo connect to Zoom by phone: \nUse the Meeting ID above and the numeric passcode below:\n+1 312 626 6799 US (Chicago)\n+1 646 876 9923 US (New York)\nPasscode: 866379 \nThese are the opening and closing prayers in PDF format:\nRefuge and 4 Immeasurables\nDedication and Aspiration
URL:https://annarborktc.org/event/meditation-and-discussion-2/2026-08-26/
LOCATION:Ann Arbor KTC\, 614 Miner St.\, Ann Arbor\, MI\, 48103\, United States
GEO:42.2867098;-83.7554469
X-APPLE-STRUCTURED-LOCATION;VALUE=URI;X-ADDRESS=Ann Arbor KTC 614 Miner St. Ann Arbor MI 48103 United States;X-APPLE-RADIUS=500;X-TITLE=614 Miner St.:geo:-83.7554469,42.2867098
END:VEVENT
BEGIN:VEVENT
DTSTART;TZID=America/Detroit:20260830T103000
DTEND;TZID=America/Detroit:20260830T113000
DTSTAMP:20260423T192613
CREATED:20220927T234118Z
LAST-MODIFIED:20240403T193456Z
UID:10002657-1788085800-1788089400@annarborktc.org
SUMMARY:Sitting / Walking Meditation.
DESCRIPTION:On the fifth Sunday of the month we do Sitting Meditation. \nSitting meditation helps us settle our minds so we can begin to examine the nature of our thoughts. Walking meditation helps us bring this awareness into everyday activity. \nSee our regular schedule for more information. \nFree\, donations welcome. \n 
URL:https://annarborktc.org/event/sitting-walking-meditation-2-2/2026-08-30/
LOCATION:Ann Arbor KTC\, 614 Miner St.\, Ann Arbor\, MI\, 48103\, United States
GEO:42.2867098;-83.7554469
X-APPLE-STRUCTURED-LOCATION;VALUE=URI;X-ADDRESS=Ann Arbor KTC 614 Miner St. Ann Arbor MI 48103 United States;X-APPLE-RADIUS=500;X-TITLE=614 Miner St.:geo:-83.7554469,42.2867098
END:VEVENT
END:VCALENDAR