BEGIN:VCALENDAR
VERSION:2.0
PRODID:-//Ann Arbor Karma Thegsum Chöling - ECPv6.15.12.2//NONSGML v1.0//EN
CALSCALE:GREGORIAN
METHOD:PUBLISH
X-ORIGINAL-URL:https://annarborktc.org
X-WR-CALDESC:Events for Ann Arbor Karma Thegsum Chöling
REFRESH-INTERVAL;VALUE=DURATION:PT1H
X-Robots-Tag:noindex
X-PUBLISHED-TTL:PT1H
BEGIN:VTIMEZONE
TZID:America/Detroit
BEGIN:DAYLIGHT
TZOFFSETFROM:-0500
TZOFFSETTO:-0400
TZNAME:EDT
DTSTART:20250309T070000
END:DAYLIGHT
BEGIN:STANDARD
TZOFFSETFROM:-0400
TZOFFSETTO:-0500
TZNAME:EST
DTSTART:20251102T060000
END:STANDARD
BEGIN:DAYLIGHT
TZOFFSETFROM:-0500
TZOFFSETTO:-0400
TZNAME:EDT
DTSTART:20260308T070000
END:DAYLIGHT
BEGIN:STANDARD
TZOFFSETFROM:-0400
TZOFFSETTO:-0500
TZNAME:EST
DTSTART:20261101T060000
END:STANDARD
BEGIN:DAYLIGHT
TZOFFSETFROM:-0500
TZOFFSETTO:-0400
TZNAME:EDT
DTSTART:20270314T070000
END:DAYLIGHT
BEGIN:STANDARD
TZOFFSETFROM:-0400
TZOFFSETTO:-0500
TZNAME:EST
DTSTART:20271107T060000
END:STANDARD
END:VTIMEZONE
BEGIN:VEVENT
DTSTART;TZID=America/Detroit:20260524T103000
DTEND;TZID=America/Detroit:20260524T113000
DTSTAMP:20260423T160521
CREATED:20240403T193928Z
LAST-MODIFIED:20240403T194017Z
UID:10002695-1779618600-1779622200@annarborktc.org
SUMMARY:Chenrezig / Amitabha Sadhanas
DESCRIPTION:On the second and fourth Sundays we chant the Chenrezig and Amitabha Sadhanas\nOn the fourth Sunday we chant in English. \nSadhana practice includes meditation\, chanting and mantra recitation. Texts are provided and everyone is welcome. \nSee our regular schedule for more information. \nFree\, donations welcome. \nOr join us on Zoom:\nMeeting ID: 661 658 7090\nPasscode: AAKTC \nTo connect to Zoom by phone:\nUse the Meeting ID above and the numeric passcode below:\n+1 312 626 6799 US (Chicago)\n+1 646 876 9923 US (New York)\nPasscode: 866379 \nThe text of the sadhana is available here:\nChenrezik Amitabha Text
URL:https://annarborktc.org/event/chenrezig-amitabha-sadhanas-2-2/2026-05-24/
LOCATION:Ann Arbor KTC\, 614 Miner St.\, Ann Arbor\, MI\, 48103\, United States
ATTACH;FMTTYPE=image/jpeg:https://annarborktc.org/wp-content/uploads/2019/02/Chenrezik1.jpg
GEO:42.2867098;-83.7554469
X-APPLE-STRUCTURED-LOCATION;VALUE=URI;X-ADDRESS=Ann Arbor KTC 614 Miner St. Ann Arbor MI 48103 United States;X-APPLE-RADIUS=500;X-TITLE=614 Miner St.:geo:-83.7554469,42.2867098
END:VEVENT
END:VCALENDAR