BEGIN:VCALENDAR
VERSION:2.0
PRODID:-//Ann Arbor Karma Thegsum Chöling - ECPv6.15.12.2//NONSGML v1.0//EN
CALSCALE:GREGORIAN
METHOD:PUBLISH
X-WR-CALNAME:Ann Arbor Karma Thegsum Chöling
X-ORIGINAL-URL:https://annarborktc.org
X-WR-CALDESC:Events for Ann Arbor Karma Thegsum Chöling
REFRESH-INTERVAL;VALUE=DURATION:PT1H
X-Robots-Tag:noindex
X-PUBLISHED-TTL:PT1H
BEGIN:VTIMEZONE
TZID:America/Detroit
BEGIN:DAYLIGHT
TZOFFSETFROM:-0500
TZOFFSETTO:-0400
TZNAME:EDT
DTSTART:20250309T070000
END:DAYLIGHT
BEGIN:STANDARD
TZOFFSETFROM:-0400
TZOFFSETTO:-0500
TZNAME:EST
DTSTART:20251102T060000
END:STANDARD
BEGIN:DAYLIGHT
TZOFFSETFROM:-0500
TZOFFSETTO:-0400
TZNAME:EDT
DTSTART:20260308T070000
END:DAYLIGHT
BEGIN:STANDARD
TZOFFSETFROM:-0400
TZOFFSETTO:-0500
TZNAME:EST
DTSTART:20261101T060000
END:STANDARD
BEGIN:DAYLIGHT
TZOFFSETFROM:-0500
TZOFFSETTO:-0400
TZNAME:EDT
DTSTART:20270314T070000
END:DAYLIGHT
BEGIN:STANDARD
TZOFFSETFROM:-0400
TZOFFSETTO:-0500
TZNAME:EST
DTSTART:20271107T060000
END:STANDARD
END:VTIMEZONE
BEGIN:VEVENT
DTSTART;TZID=America/Detroit:20260118T103000
DTEND;TZID=America/Detroit:20260118T113000
DTSTAMP:20260423T190937
CREATED:20250127T002454Z
LAST-MODIFIED:20250127T002454Z
UID:10003009-1768732200-1768735800@annarborktc.org
SUMMARY:Medicine Buddha Sadhana
DESCRIPTION:We practice the Medicine Buddha Sadhana\, a Buddha of healing\, on the third Sunday of the month \nSadhana practice includes meditation\, chanting and mantra recitation. Texts are provided and everyone is welcome. \nSee our weekly schedule for more information. \nFree\, donations welcome. \nJoin us on Zoom:\nMeeting ID: 661 658 7090\nPasscode: AAKTC \nTo connect to Zoom by phone:\nUse the Meeting ID above and the numeric passcode below:\n+1 312 626 6799 US (Chicago)\n+1 646 876 9923 US (New York)\nPasscode: 866379 \nThe text of the practice is available here:\nMedicine Buddha Text
URL:https://annarborktc.org/event/medicine-buddha-sadhana-2/2026-01-18/
LOCATION:Ann Arbor KTC\, 614 Miner St.\, Ann Arbor\, MI\, 48103\, United States
ATTACH;FMTTYPE=image/jpeg:https://annarborktc.org/wp-content/uploads/2018/07/MedicineBuddha2.jpg
GEO:42.2867098;-83.7554469
X-APPLE-STRUCTURED-LOCATION;VALUE=URI;X-ADDRESS=Ann Arbor KTC 614 Miner St. Ann Arbor MI 48103 United States;X-APPLE-RADIUS=500;X-TITLE=614 Miner St.:geo:-83.7554469,42.2867098
END:VEVENT
END:VCALENDAR