BEGIN:VCALENDAR
VERSION:2.0
PRODID:-//Ann Arbor Karma Thegsum Chöling - ECPv6.15.12.2//NONSGML v1.0//EN
CALSCALE:GREGORIAN
METHOD:PUBLISH
X-ORIGINAL-URL:https://annarborktc.org
X-WR-CALDESC:Events for Ann Arbor Karma Thegsum Chöling
REFRESH-INTERVAL;VALUE=DURATION:PT1H
X-Robots-Tag:noindex
X-PUBLISHED-TTL:PT1H
BEGIN:VTIMEZONE
TZID:America/Detroit
BEGIN:DAYLIGHT
TZOFFSETFROM:-0500
TZOFFSETTO:-0400
TZNAME:EDT
DTSTART:20240310T070000
END:DAYLIGHT
BEGIN:STANDARD
TZOFFSETFROM:-0400
TZOFFSETTO:-0500
TZNAME:EST
DTSTART:20241103T060000
END:STANDARD
BEGIN:DAYLIGHT
TZOFFSETFROM:-0500
TZOFFSETTO:-0400
TZNAME:EDT
DTSTART:20250309T070000
END:DAYLIGHT
BEGIN:STANDARD
TZOFFSETFROM:-0400
TZOFFSETTO:-0500
TZNAME:EST
DTSTART:20251102T060000
END:STANDARD
BEGIN:DAYLIGHT
TZOFFSETFROM:-0500
TZOFFSETTO:-0400
TZNAME:EDT
DTSTART:20260308T070000
END:DAYLIGHT
BEGIN:STANDARD
TZOFFSETFROM:-0400
TZOFFSETTO:-0500
TZNAME:EST
DTSTART:20261101T060000
END:STANDARD
END:VTIMEZONE
BEGIN:VEVENT
DTSTART;TZID=America/Detroit:20251224T190000
DTEND;TZID=America/Detroit:20251224T200000
DTSTAMP:20260423T210205
CREATED:20251129T213956Z
LAST-MODIFIED:20251129T214254Z
UID:10003150-1766602800-1766606400@annarborktc.org
SUMMARY:No Meditation  Merry Christmas
DESCRIPTION:We will not meet on December 24\, Christmas Eve. \nHappy Holidays and Tashi Delek to everyone!
URL:https://annarborktc.org/event/no-meditation-merry-christmas/
LOCATION:Ann Arbor KTC\, 614 Miner St.\, Ann Arbor\, MI\, 48103\, United States
GEO:42.2867098;-83.7554469
X-APPLE-STRUCTURED-LOCATION;VALUE=URI;X-ADDRESS=Ann Arbor KTC 614 Miner St. Ann Arbor MI 48103 United States;X-APPLE-RADIUS=500;X-TITLE=614 Miner St.:geo:-83.7554469,42.2867098
END:VEVENT
END:VCALENDAR